BEGIN:VCALENDAR
TZID:Europe/Berlin
BEGIN:VEVENT
CLASS:PUBLIC
CREATED:20260422T125935
DESCRIPTION:<p class="x_MsoPlainText">Mit Maja Schnack - Wie Aquarell nur einfacher! Mit Pinselstiften, oder auch Brush Pens genannt, kannst du ganz einfach wunderschöne Aquarell-Hintergründe und Schriften malen. Die Stifte sind wunderbar in der Handhabung und lassen sich überall ganz unkompliziert für eine kreative Auszeit einsetzen. Dazu verwenden wir passendes Papier, Stanzer sowie Fineliner und einen Wassertankpinsel.</p>\nLerne erste Grundlagen im Lettern, sowie den Umgang mit verschiedenen Sorten an Brush Pens und erschaffe beeindruckende Kunstwerke. Wir gestalten gemeinsam ca. 3-4 Grußkarten und Geschenkanhänger. Für Zuhause erhältst du neben deinen Karten auch Übungsblätter mit Musterübungen.\n<p class="x_MsoNormal">Der Kurs richtet sich an Anfänger ab 12 Jahres, die in lockerer Atmosphäre kreativ werden wollen. Vorkenntnisse sind nicht notwendig.</p>\nHinweis: Generell keine telefonischen Anmeldungen. Die Kursanmeldung ist für uns nur mit Zahlung der Kursgebühr verbindlich! Erstattung der Kursgebühr nur bei rechtzeitiger Absage (bis 1 Woche vor Kursbeginn). Die Kursgebühr inkl. sämtlichen Material von € 72,- ist zahlbar bei Anmeldung. Bei unentschuldigtem Fehlen des Kursteilnehmers kann die Kursgebühr nicht erstattet werden.\n\nKursleitung: Maja Schnack von für Dich Gestaltung (www.fuerdichgestaltung.de)
DTEND:20240505T210000Z
DTSTAMP:20260422T125935
DTSTART:20240505T180000
LAST-MODIFIED:20091109T101015
LOCATION:Kreativ Bastelparadies, Bahnhofstraße 5, , , 21614
SUMMARY;LANGUAGE=en-us:Kreativer Karten Workshop mit Brush Pens und Lettering
BEGIN:VALARM
TRIGGER:-PT1440M
ACTION:DISPLAY
DESCRIPTION:Reminder
END:VALARM
END:VEVENT
END:VCALENDAR
